BEGIN:VCALENDAR
VERSION:2.0
PRODID:-//CiviCRM//NONSGML CiviEvent iCal//EN
X-WR-TIMEZONE:America/New_York
METHOD:PUBLISH
BEGIN:VTIMEZONE
TZID:America/New_York
BEGIN:DAYLIGHT
TZOFFSETFROM:-0400
TZOFFSETTO:-0400
TZNAME:EDT
DTSTART:20260609T130000
END:DAYLIGHT
END:VTIMEZONE
BEGIN:VEVENT
UID:CiviCRM_EventID_232_10187a26fbb61c0f8e4451f3a821db9b@www.icrm.org
SUMMARY:June ICRM Office Hours
X-ALT-DESC;FMTTYPE=text/html:<!DOCTYPE HTML PUBLIC
  "-//W3C//DTD HTML 3.2//EN"><html><body><p><strong
 >ICRM Office Hours</strong></p>\n \n <p>Tuesday\, 
 June 9\, 2026 - 1:00 p.m. - 2:00 p.m. ET<br />\n <
 br />\n Are you a candidate with questions about t
 he exam process? Join us for our ICRM Office Hours
 ! We will be there to answer your questions and gi
 ve you the confidence you need to conquer the ICRM
  exams! </p>\n \n <p>Cost: Free</p>\n \n <p><stron
 g>*Important: If you are logged into your ICRM acc
 ount\, update your timezone by clicking "Update My
  Information" on the <a href="https://www.icrm.org
 /member-overview" rel="noreferrer noopener" target
 ="_blank">Member Overview page</a>. Select your ti
 me zone from the "Locale settings" time zone dropd
 own.</strong></p></body></html>
DESCRIPTION:ICRM Office Hours\n \n \n \n Tuesday\, June 9\, 20
 26 - 1:00 p.m. - 2:00 p.m. ET\n \n \n \n Are you a
  candidate with questions about the exam process? 
 Join us for our ICRM Office Hours! We will be ther
 e to answer your questions and give you the confid
 ence you need to conquer the ICRM exams! \n \n \n 
 \n Cost: Free\n \n \n \n *Important: If you are lo
 gged into your ICRM account\, update your timezone
  by clicking "Update My Information" on the Member
  Overview page (https://www.icrm.org/member-overvi
 ew). Select your time zone from the "Locale settin
 gs" time zone dropdown.\n \n 
CATEGORIES:Workshop
CALSCALE:GREGORIAN
DTSTAMP;TZID=America/New_York:20260609T130000
DTSTART;TZID=America/New_York:20260609T130000
DTEND;TZID=America/New_York:20260609T140000
URL:https://www.icrm.org/civicrm/event/info?reset=1&id=232
END:VEVENT
END:VCALENDAR
